BEGIN:VCALENDAR
VERSION:2.0
PRODID:-//Tukios.com/
BEGIN:VEVENT
UID:9981d47d-cf7c-4874-92e5-54d8010bb704@www.wheelanpressly.com
DTSTAMP:20260421T000625Z
DTSTART:20260424T160000Z
DTEND:20260424T170000Z
SUMMARY:Visitation
DESCRIPTION:
URL:https://www.wheelanpressly.com/obituaries/jacqueline-knight
LOCATION:Wheelan-Pressly Funeral Home and Crematory 3030 7th Ave  Rock 
	Island IL 61201
GEO:41.5042605;-90.5559447
END:VEVENT
END:VCALENDAR