BEGIN:VCALENDAR
VERSION:2.0
PRODID:-//Tukios.com/
BEGIN:VEVENT
UID:a9ab999e-6187-4fab-884d-ca81619cfddb@www.wheelanpressly.com
DTSTAMP:20260421T000248Z
DTSTART:20260424T170000Z
DTEND:20260424T180000Z
SUMMARY:Funeral Service
DESCRIPTION:
URL:https://www.wheelanpressly.com/obituaries/jacqueline-knight
LOCATION:Wheelan-Pressly Funeral Home and Crematory 3030 7th Ave  Rock 
	Island IL 61201
GEO:41.5042605;-90.5559447
END:VEVENT
END:VCALENDAR