BEGIN:VCALENDAR
VERSION:2.0
PRODID:-//Tukios.com/
BEGIN:VEVENT
UID:efb33f63-419e-4036-8fa4-0ba87cf6acb9@www.wheelanpressly.com
DTSTAMP:20260421T000625Z
DTSTART:20260427T160000Z
DTEND:20260427T170000Z
SUMMARY:Graveside Service
DESCRIPTION:
URL:https://www.wheelanpressly.com/obituaries/jacqueline-knight
LOCATION:Evergreen Memorial Park Cemetery 2300 S. 78th St.  Omaha NE 
	68124
GEO:41.2401399;-96.0354959
END:VEVENT
END:VCALENDAR