BEGIN:VCALENDAR
VERSION:2.0
PRODID:-//Tukios.com/
BEGIN:VEVENT
UID:cc4e9683-36f4-415f-ab87-64c6b46f09c4@www.wheelanpressly.com
DTSTAMP:20260420T235915Z
DTSTART:20260423T210000Z
DTEND:20260423T233000Z
SUMMARY:Visitation
DESCRIPTION:
URL:https://www.wheelanpressly.com/obituaries/joyce-mack
LOCATION:Wheelan-Pressly Funeral Home and Crematory 3030 7th Ave  Rock 
	Island IL 61201
GEO:41.5042605;-90.5559447
END:VEVENT
END:VCALENDAR