BEGIN:VCALENDAR
VERSION:2.0
PRODID:-//Tukios.com/
BEGIN:VEVENT
UID:5dec9593-cd64-4dd1-a51d-78e9a16f1301@www.wheelanpressly.com
DTSTAMP:20260420T235953Z
DTSTART:20260424T150000Z
DTEND:20260424T160000Z
SUMMARY:Mass
DESCRIPTION:
URL:https://www.wheelanpressly.com/obituaries/joyce-mack
LOCATION:St. Pius X Catholic Church 2502 29th Avenue  Rock Island IL 
	61201
GEO:41.4795376;-90.5668467
END:VEVENT
END:VCALENDAR