BEGIN:VCALENDAR
VERSION:2.0
PRODID:-//Tukios.com/
BEGIN:VEVENT
UID:24824e7d-5d7d-4aab-b661-a56ee77a4add@www.wheelanpressly.com
DTSTAMP:20260420T235915Z
DTSTART:20260424T163000Z
DTEND:20260424T170000Z
SUMMARY:Burial
DESCRIPTION:
URL:https://www.wheelanpressly.com/obituaries/joyce-mack
LOCATION:  Rodman Avenue  Rock Island IL 61299
GEO:41.5144572;-90.523989
END:VEVENT
END:VCALENDAR