BEGIN:VCALENDAR
VERSION:2.0
PRODID:-//Tukios.com/
BEGIN:VEVENT
UID:365df777-5315-4211-b966-683bec15cd1d@www.wheelanpressly.com
DTSTAMP:20260421T000035Z
DTSTART:20260423T200000Z
DTEND:20260423T203000Z
SUMMARY:Rosary
DESCRIPTION:
URL:https://www.wheelanpressly.com/obituaries/joyce-mack
LOCATION: 3030 7th Ave  Rock Island IL 61201
GEO:41.5042605;-90.5559447
END:VEVENT
END:VCALENDAR