BEGIN:VCALENDAR
VERSION:2.0
PRODID:-//Tukios.com/
BEGIN:VEVENT
UID:aa1e398c-d79e-45e5-9da5-fc327efed8e3@www.wheelanpressly.com
DTSTAMP:20260421T000410Z
DTSTART:20260427T180000Z
DTEND:20260427T190000Z
SUMMARY:Visitation
DESCRIPTION:
URL:https://www.wheelanpressly.com/obituaries/robert-thompson
LOCATION:Wheelan-Pressly Funeral Home and Crematory 3030 7th Ave  Rock 
	Island IL 61201
GEO:41.5042605;-90.5559447
END:VEVENT
END:VCALENDAR