BEGIN:VCALENDAR
VERSION:2.0
PRODID:-//Tukios.com/
BEGIN:VEVENT
UID:64aab0d5-9d2d-4df1-9bf5-253540be0ee7@www.wheelanpressly.com
DTSTAMP:20260421T000248Z
DTSTART:20260427T190000Z
DTEND:20260427T200000Z
SUMMARY:Memorial Service
DESCRIPTION:
URL:https://www.wheelanpressly.com/obituaries/robert-thompson
LOCATION:Wheelan-Pressly Funeral Home and Crematory 3030 7th Ave  Rock 
	Island IL 61201
GEO:41.5042605;-90.5559447
END:VEVENT
END:VCALENDAR