BEGIN:VCALENDAR
VERSION:2.0
PRODID:-//Tukios.com/
BEGIN:VEVENT
UID:d46ad35a-877b-433b-a01e-bf16e14293fa@www.wheelanpressly.com
DTSTAMP:20260420T220916Z
DTSTART:20260423T220000Z
DTEND:20260424T000000Z
SUMMARY:Visitation
DESCRIPTION:
URL:https://www.wheelanpressly.com/obituaries/stephanie-sullivan
LOCATION: 201 4th Ave E  Milan IL 61264
GEO:41.4502675;-90.5653091
END:VEVENT
END:VCALENDAR