BEGIN:VCALENDAR
VERSION:2.0
PRODID:-//Tukios.com/
BEGIN:VEVENT
UID:61d6d78b-ba9e-4cdd-91f6-9f669b6d54e8@www.wheelanpressly.com
DTSTAMP:20260420T220502Z
DTSTART:20260424T160000Z
DTEND:20260424T170000Z
SUMMARY:Funeral Service
DESCRIPTION:
URL:https://www.wheelanpressly.com/obituaries/stephanie-sullivan
LOCATION:All Saints Episcopal Church 3145 31st Avenue  Rock Island IL 
	61201
GEO:41.4791251;-90.5544815
END:VEVENT
END:VCALENDAR